BEGIN:VCALENDAR
VERSION:2.0
PRODID:-//AnandChowdhary//calendar-link//EN
BEGIN:VEVENT
DTSTART:20260509T130000Z
DTEND:20260509T190000Z
DTSTAMP:20260418T203808Z
SUMMARY:Paint the fence at Prospect Hill Cemetery
DESCRIPTION:We'll provide all the materials (and lunch!) — just be sure to wear work clothes!
LOCATION:27 E Main Street, Sidney, NY
UID:28969
END:VEVENT
END:VCALENDAR
